

BEGIN:VCALENDAR
VERSION:2.0
PRODID:-//hacksw/handcal//NONSGML v1.0//EN
CALSCALE:GREGORIAN
BEGIN:VEVENT
DTEND:20151105T080000
UID:5e5c9c0a76009
DTSTAMP:20200302T163922
LOCATION:National Museum of Australia Lawson Crescent Acton 2601 ACT
DESCRIPTION:MORE THAN HALF OF THE WORLD’S POPULATION LIVE IN URBAN AREAS AND THIS CONTINUES TO GROW. 

The attraction of cities lies in the concentration and abundance of opportunities they provide for people. Access is at the heart of the success of cities\, but often erodes as cities grow.

The fastest growing urban areas in the world are dense\, crowded and massive producers of wealth. In many of these cities\, the pace of rapid development has outstripped infrastructure provision and is accompanied by rising income inequality. The impacts of urbanisation on city dwellers are powerful\, but too often aspects such as transport\, city planning\, architecture and governance structures fail to integrate people into their plans.

INNOVATIVE CITIES\, INNOVATIVE MINDS

is a two day conference\, hosted by the Capital Metro Agency\, for leading and emerging industry professionals who want to influence and contribute to the successful planning of Canberra. Master practitioners and researchers will address the fundamental challenge of 21st century cities: ensuring cities work for those that live there. Future leaders will have the opportunity to exchange ideas\, network and get involved in shaping the transformation of Canberra. 

WHERE

National Museum of Australia

Lawson Crescent\, Acton ACT 2601

CONTACT

CMAfeedback@act.gov.au

&nbsp\;

Innovative cities\, innovative minds - Program
URL;VALUE=URI:http://esaact.org.au/event/15724
SUMMARY:Innovative cities\, innovative minds conference
DTSTART:20151104T080000
END:VEVENT
END:VCALENDAR

