

BEGIN:VCALENDAR
VERSION:2.0
PRODID:-//hacksw/handcal//NONSGML v1.0//EN
CALSCALE:GREGORIAN
BEGIN:VEVENT
DTEND:20160824T140000
UID:5e5c9c1a1e665
DTSTAMP:20200302T163938
LOCATION:Private Dining Room 1\, Old Parliament House 18 King George Terrace\, Parkes Canberra 2600 ACT
DESCRIPTION:Challenges in understanding the role of Science in the Economy
David Pearce is the Executive Director of The Centre for International Economics (The CIE). David has over 30 years of experience in applying economics to a wide range of issues for clients in Australia\, Vietnam\, China\, India\, Laos\, Indonesia\, Sri Lanka\, Bulgaria\, the Philippines and Papua New Guinea. David has developed a variety of quantitative analytical techniques including economy wide and simulation modelling to assist clients in solving difficult economic problems related to international trade\, climate change\, agriculture\, mining\, manufacturing\, tourism\, education and transport.
In particular\, David is interested in R&amp\;D evaluation &ndash\; quantitative empirical analysis of R&amp\;D outcomes\, both in Australia and overseas.



Time:
Arrive at 12:30 for lunch\, presentation from 1:00pm to 2:00pm


Venue:
Private Dining Room 1\, Old Parliament House\,&nbsp\;18 King George Terrace\, Parkes - use the Queen Victoria Terrace entrance&nbsp\;


Dress:
Business casual


Food:
Sandwich lunch provided&nbsp\; &nbsp\; &nbsp\; &nbsp\;&nbsp\;



Registration: This is a free event but ticket numbers are strictly limited and registrations close at midnight on 17 August 2016.




sponsors of the event series



&nbsp\;
&nbsp\;
URL;VALUE=URI:http://esaact.org.au/event/18692
SUMMARY:The Economic Society of Australia's Quarterly Economist 'Free' Lunch
DTSTART:20160824T123000
END:VEVENT
END:VCALENDAR

