

BEGIN:VCALENDAR
VERSION:2.0
PRODID:-//hacksw/handcal//NONSGML v1.0//EN
CALSCALE:GREGORIAN
BEGIN:VEVENT
DTEND:20160623T133000
UID:5e5c9c01e72f6
DTSTAMP:20200302T163913
LOCATION:Atlas Room\, Hellenic Club  13 Moore Street Canberra 2601 ACT
DESCRIPTION:&nbsp\;
Andrew Leigh of Labor\, Christina Hobbs of the Greens and Robert Jennings of Liberal will justify their party&rsquo\;s respective economic policies\, respond to each other&rsquo\;s policies and answer your questions on why their party&rsquo\;s economic policies are best for Australia.
&nbsp\;
Location: Atlas Room\, Hellenic Club\, 13 Moore Street\, Canberra City
&nbsp\;
When: Thursday 23rd June  Debate starts at noon sharp\, followed by a light lunch from 1 &ndash\; 1:30pm
&nbsp\;
Registration: Entry is free for Economic Society of Australia financial members\, $10 for non members. Please register for catering purposes at link goes here. &nbsp\;Ticket numbers are strictly limited.
&nbsp\;
URL;VALUE=URI:http://esaact.org.au/event/20724
SUMMARY:2016 Economists’  Federal Election Debate
DTSTART:20160623T120000
END:VEVENT
END:VCALENDAR

