

BEGIN:VCALENDAR
VERSION:2.0
PRODID:-//hacksw/handcal//NONSGML v1.0//EN
CALSCALE:GREGORIAN
BEGIN:VEVENT
DTEND:20180709T173000
UID:5e5c9fb717200
DTSTAMP:20200302T165503
LOCATION:Hyatt Hotel 120 Commonwealth Ave Canberra 2600 ACT
DESCRIPTION:Value Capture Conference
The Economic Society of Australia invites&nbsp\;are pleased to invite you to the one-day conference\, Value Capture: Making Sense of Policy Options\, to be held in Canberra on 9 July 2018. View our Key Note Speakers.
The Value Capture: Making Sense of Policy Options conference is being held at the Hyatt Hotel in Canberra to coincide with the Australian Conference of Economists (ACE) run by the Economic Society of Australia (ESA). The ACE will be held at the Australian National University (ANU) in Canberra from 10 to 13 July 2018.
Early Bird Registration OPENRegistration is now open for the Value Capture Conference 2018. For more information on registration inclusions and prices\, please click here.
Register Now
&nbsp\;
URL;VALUE=URI:http://esaact.org.au/event/33359
SUMMARY:Value Capture Conference
DTSTART:20180709T083000
END:VEVENT
END:VCALENDAR

