

BEGIN:VCALENDAR
VERSION:2.0
PRODID:-//hacksw/handcal//NONSGML v1.0//EN
CALSCALE:GREGORIAN
BEGIN:VEVENT
DTEND:20181115T200000
UID:5e5c9e295a13f
DTSTAMP:20200302T164825
LOCATION:Muse at East Hotel Cnr Canberra Ave and Giles St Kingston 2603 ACT
DESCRIPTION:ESA (ACT) Annual General Meeting
The ESA (ACT) is pleased to invite you to our Annual General Meeting
Event Details:
Date: Thursday 15 November 2018 Time: 6:00pm- 8:00pm Location: Muse at East Hotel\,&nbsp\;Cnr Canberra Ave and Giles St Kingston&nbsp\; &nbsp\;&nbsp\;Cost: Members Only event: No charge&nbsp\;&nbsp\;
* Drinks and Canapes will be provided&nbsp\;
&nbsp\;
URL;VALUE=URI:http://esaact.org.au/event/35549
SUMMARY:ESA (ACT) Annual General Meeting
DTSTART:20181115T180000
END:VEVENT
END:VCALENDAR

