

BEGIN:VCALENDAR
VERSION:2.0
PRODID:-//hacksw/handcal//NONSGML v1.0//EN
CALSCALE:GREGORIAN
BEGIN:VEVENT
DTEND:20180823T133000
UID:5e5c9faa73142
DTSTAMP:20200302T165450
LOCATION:The Griffin Centre (Room 6\, Level 1) 20 Genge Street Canberra 2600 ACT
DESCRIPTION:Economic Growth in the Modern World
The ESA (ACT) is hosting Associate Professor Fiona Yap from the ANU Crawford School of Public Policy College of Asia &amp\; the Pacific who will be talking about the Korean economy and related issues. 
Recently\, ESA (ACT) held the Australian Conference of Economists where Professor Anne O. Krueger from Johns Hopkins School of Advanced International Studies provided an excellent presentation where she pointed to Korea as an example of economic growth in the modern world.
Please come to hear A/Prof Yap explore this interesting economy with the ESA (ACT).
Event Details:
Date: Thursday 23 August 2018 Time: 12:00pm- 1:30pm Location: The Griffin Centre\, Room 6\, Level 1\, 20 Genge&nbsp\;Street Canberra City&nbsp\;&nbsp\;Cost: Mbrs: No charge&nbsp\; Non Mbrs: $20.00
* A light lunch will be served&nbsp\;
&nbsp\;
URL;VALUE=URI:http://esaact.org.au/event/35550
SUMMARY:Economic Growth in the Modern World 
DTSTART:20180823T120000
END:VEVENT
END:VCALENDAR

