

BEGIN:VCALENDAR
VERSION:2.0
PRODID:-//hacksw/handcal//NONSGML v1.0//EN
CALSCALE:GREGORIAN
BEGIN:VEVENT
DTEND:20181025T213000
UID:5e5c9e460b0f5
DTSTAMP:20200302T164854
LOCATION:The Boat House Grevillea Park\, Menindee Drive Barton 2600 ACT
DESCRIPTION:ESA&nbsp\;(ACT) Dinner&nbsp\;&nbsp\;&ldquo\;Life changing events in Australian macroeconomic history over the last half century. Why are they not better understood?&rdquo\;
ESA (ACT) would like to invite you to our Annual Dinner featuring a talk from ESA veteran Emeritus Professor Bob Gregory from the Research School of Economics\, ANU College of Business &amp\; Economics.
Professor Gregory is a former member of the Reserve Bank of Australia Board. He has been closely involved in Australian economic policy development and particularly labour markets. His research has focussed on economic development and growth\, comparative economy systems and welfare economics. He has a particular interest in wage inequality\, international comparison of wages and employment and unemployment.
Bob has advised successive Federal Governments on key matters\, including as principal consultant in a series of Aged Care Reviews for the Department of Community Services and Health in the 1990s.
Please join us to hear from Professor Gregory and enjoy dinner with the ESA (ACT).




Professor Bob Gregory is Emeritus Professor in the Research School of Social Sciences and a former member of the Reserve Bank of Australia Board. He has been closely involved in Australian economic policy development and particularly labour markets. His research has focussed on economic development and growth\, comparative economy systems and welfare economics. He has a particular interest in wage inequality\, international comparison of wages and employment and unemployment.
Bob has advised successive Federal Governments on key matters\, including as principal consultant in a series of Aged Care Reviews for the Department of Community Services and Health in the 1990s.
He has been Editor of the Economic Record\, the leading Australian economics journal\, as well as serving on Editorial Boards of numerous international journals.
Bob holds a PhD from the London School of Economics




Please note that registration is required and numbers are limited.
Dinner is included.&nbsp\;
Event Details:
Date: Thursday 25 October 2018Time: 6.30pm - 9:30pm Location: The Boat House\,&nbsp\;Grevillea Park\, Menindee Dr\, Barton ACT&nbsp\;Cost: $80.00 members $137.00 non-members&nbsp\;
&nbsp\;&nbsp\;
URL;VALUE=URI:http://esaact.org.au/event/35822
SUMMARY:ESA (ACT) Annual Dinner
DTSTART:20181025T183000
END:VEVENT
END:VCALENDAR

