

BEGIN:VCALENDAR
VERSION:2.0
PRODID:-//hacksw/handcal//NONSGML v1.0//EN
CALSCALE:GREGORIAN
BEGIN:VEVENT
DTEND:20180912T133000
UID:5e5c9f9d8303f
DTSTAMP:20200302T165437
LOCATION:The National Portrait Gallery Terrace Room 1\, Kind Edward Terrace Parkes 2600 ACT
DESCRIPTION:Experts? Who needs &lsquo\;em? &ndash\; Promoting the Value of Expertise in Decision-Making in Australia&rsquo\;s Future
Please register to attend via the webpage&rsquo\;s Event RSVP blue button at: https://www.assa.edu.au/event/2018-peter-karmel-forum/
Featuring:Sarah Burr &ndash\; Senior Adviser\, Department of Prime Minister &amp\; CabinetLinda Botterill &ndash\; Professor\, School of Government &amp\; Policy\, UC\, FASSACarolyn Hendriks &ndash\; Associate Professor\, Crawford School of Public Policy\, ANUDeborah Lupton &ndash\; Professor\, Faculty of Arts &amp\; Design\, UC\, FASSA
Facilitator:Michael Wesley &ndash\; Professor &amp\; Dean\, The College of Asia &amp\; the Pacific\, ANUBritish MP Michael Gove recently said\, &ldquo\;I think the people have had enough of experts with organisations from acronyms saying that they know what is best and getting it consistently wrong&rdquo\;. With integrity and trust in institutions at an all-time low\, his comments reflect a society feeling fed up with experts who\, they think\, are out-of-touch.
This forum seeks to examine how experts can effect positive change and remain relevant in a post-truth society. What can we do to ensure those with the power to make the decisions that will shape our future are equipped with the necessary knowledge and research (particularly in relation to the social sciences) to give our nation the best shot and restore public confidence?
Wednesday 12 September 2018 Doors open at 12 noon for 12.30pm &ndash\; 1.30pmLight lunch served immediately afterNational Portrait GalleryTerrace Rm 1\, King Edward Terrace\, Parkes ACT 2600
For more information please contact ASSA Public Engagement Manager\,Ms Sunny Hutson | E. Sunny.Hutson@assa.edu.au | T. 02 6249 1788
&nbsp\;
URL;VALUE=URI:http://esaact.org.au/event/35891
SUMMARY:Experts? Who needs ‘em?
DTSTART:20180912T120000
END:VEVENT
END:VCALENDAR

