

BEGIN:VCALENDAR
VERSION:2.0
PRODID:-//hacksw/handcal//NONSGML v1.0//EN
CALSCALE:GREGORIAN
BEGIN:VEVENT
DTEND:20181018T203000
UID:5e5c9f6e91211
DTSTAMP:20200302T165350
LOCATION:The Highball Express 82 Alinga Street Canberra 2601 ACT
DESCRIPTION:Young Economists Event
The Economic Society of Australia and Young Economists Network ACT is pleased to invite you to a Young Economists Event for a debate on Telecommunications Economics.
There will be a bar tab and food to share upon arrival. Please note that registration is required and numbers are limited.&nbsp\;
Event Details:
Date: Thursday 18 October 2018 Time: 6:30pm- 8:30pm Location: The Highball Express\, 82 Alinga&nbsp\;Street\, Canberra City&nbsp\;Cost: Members: No charge&nbsp\; Non Members: $20.00
&nbsp\;
&nbsp\;
URL;VALUE=URI:http://esaact.org.au/event/36067
SUMMARY:ESA (ACT): Young Economists event
DTSTART:20181018T183000
END:VEVENT
END:VCALENDAR

