

BEGIN:VCALENDAR
VERSION:2.0
PRODID:-//hacksw/handcal//NONSGML v1.0//EN
CALSCALE:GREGORIAN
BEGIN:VEVENT
DTEND:20181023T200000
UID:5e5c9f5fd39c4
DTSTAMP:20200302T165335
LOCATION:University House 1 Balmain Crescent Acton 2601 ACT
DESCRIPTION:Student Mentoring ProgramPlease join us for the launch and first networking event of the ACT Women in Economics Student Mentoring Program.&nbsp\;
Event Details:
Date: Tuesday 23 October 2018 Time: 6:00pm- 8:00pm Location: University House\, 1 Balmain Crescent Acton\, ANUCost: INVITATION ONLY!&nbsp\; Please use the PROMO CODE you received in your invitation to register at no charge.
WEN&nbsp\;has been formed to promote and support the career development of women in the economics profession in Australia.
Please note that this is an INVITATION ONLY event.Registration is required and numbers are limited.&nbsp\;
&nbsp\;
URL;VALUE=URI:http://esaact.org.au/event/36432
SUMMARY:WEN Mentoring Program Launch
DTSTART:20181023T180000
END:VEVENT
END:VCALENDAR

