

BEGIN:VCALENDAR
VERSION:2.0
PRODID:-//hacksw/handcal//NONSGML v1.0//EN
CALSCALE:GREGORIAN
BEGIN:VEVENT
DTEND:20181115T180000
UID:5e5c9e2cea86b
DTSTAMP:20200302T164828
LOCATION:Muse at East Hotel Cnr Canberra Ave and Giles St Kingston 2603 ACT
DESCRIPTION:Women in Economics Annual General Meeting&nbsp\;
The Women in Economics network is pleased to invite you to our Annual General Meeting.&nbsp\;
Nominations&nbsp\;for WEN Committee positions are due by Thursday 8 November.&nbsp\;Current ESA WEN Members are eligible to nominate and vote at the WEN AGM.
Please email Rebecca Cassells&nbsp\;at&nbsp\;rebecca.cassells@curtin.edu.au&nbsp\;to nominate.&nbsp\;
Event Details:
Date: Thursday&nbsp\;15 November 2018&nbsp\;Time: 5:00pm- 6:00pm&nbsp\;Location: Muse at East Hotel\,&nbsp\;Cnr Canberra Ave and Giles St Kingston&nbsp\; &nbsp\;Cost: Members only event: No charge&nbsp\;&nbsp\;
* Drinks and Canapes will be provided
&nbsp\;
Please also join us for the ACT Economic Society AGM\, which will be held immediately afterwards.
WEN&nbsp\;has been formed to promote and support the career development of women in the economics profession in Australia.
&nbsp\;
URL;VALUE=URI:http://esaact.org.au/event/36433
SUMMARY:WEN Annual General Meeting
DTSTART:20181115T170000
END:VEVENT
END:VCALENDAR

