

BEGIN:VCALENDAR
VERSION:2.0
PRODID:-//hacksw/handcal//NONSGML v1.0//EN
CALSCALE:GREGORIAN
BEGIN:VEVENT
DTEND:20181108T183000
UID:5e5c9e38dd375
DTSTAMP:20200302T164840
LOCATION:National Press Club 16 National Cct Barton 2600 ACT
DESCRIPTION:Australian Government Economists&rsquo\; Conference Drinks
The Economic Society of Australia (ACT) invites all attendees of the Australian Government Economists&rsquo\; Conference to join our members for networking drinks to discuss issues explored at the Conference
Event details:
Date: Thursday 8 November 2018 Time: 5:00pm- 6:30pm Location: National Press Club\, Canberra Cost: Free for ESA members and conference attendees
Proudly Sponsored by:

&nbsp\;
&nbsp\;
URL;VALUE=URI:http://esaact.org.au/event/36541
SUMMARY:Australian Government Economists’ Conference Drinks
DTSTART:20181108T170000
END:VEVENT
END:VCALENDAR

