

BEGIN:VCALENDAR
VERSION:2.0
PRODID:-//hacksw/handcal//NONSGML v1.0//EN
CALSCALE:GREGORIAN
BEGIN:VEVENT
DTEND:20181213T200000
UID:5e5c9e0edfbda
DTSTAMP:20200302T164758
LOCATION:The Commonwealth Club 25 Forster Cresent Yarralumla 2600 ACT
DESCRIPTION:Join fellow economists as we celebrate the end of year.&nbsp\; Finger food and&nbsp\;refreshments served.
Date and Time:&nbsp\;6.00 start\, until 8pm\, Thursday 13 December
Venue:&nbsp\;The Commonwealth Club
Cost:&nbsp\;&nbsp\;Members: No charge\; &nbsp\;Non-members: $20.00
URL;VALUE=URI:http://esaact.org.au/event/36852
SUMMARY:Economic Society of Australia (ACT) Christmas Drinks 
DTSTART:20181213T180000
END:VEVENT
END:VCALENDAR

