

BEGIN:VCALENDAR
VERSION:2.0
PRODID:-//hacksw/handcal//NONSGML v1.0//EN
CALSCALE:GREGORIAN
BEGIN:VEVENT
DTEND:20190308T193000
UID:5e5c9e013a34e
DTSTAMP:20200302T164745
LOCATION:ANU\, Research School of Economics Seminar Room\, Level 1\, HW Arndt Building (Bldg 25A)\, Kingsley St Acton 2601 ACT
DESCRIPTION:ESA&nbsp\;(ACT) First Friday Economics&nbsp\;March 2019
Martin Parkinson AC PSM&nbsp\;
The Research School of Economics at the ANU and the ACT Branch of the Economic Society of Australia wish to announce an exciting initiative aimed at enriching the professional and social lives of Canberra economists\, to be known as &ldquo\;First Friday Economics&rdquo\;. We aim to provide a congenial setting\, on the first Friday of every month\, to allow the interaction of mainly young Canberra economists\, with a major Canberra economist invited to give a short address. Finger food and drinks provided free of charge.
For the inaugural event in March\, we are pleased to have Martin Parkinson speaking on the role of economists in public policy &ldquo\;Straying outside your lane&rdquo\;.



&nbsp\; &nbsp\; &nbsp\; &nbsp\; &nbsp\; &nbsp\; &nbsp\; &nbsp\; &nbsp\; &nbsp\; &nbsp\; &nbsp\; &nbsp\; &nbsp\; &nbsp\; &nbsp\; &nbsp\; &nbsp\; &nbsp\; &nbsp\; &nbsp\; &nbsp\; &nbsp\; &nbsp\; &nbsp\; &nbsp\; &nbsp\; &nbsp\; &nbsp\; &nbsp\;&nbsp\;
&nbsp\; &nbsp\; &nbsp\; &nbsp\;
Martin is currently Secretary of the Department of the Prime Minister and Cabinet. He has had a distinguished career across many private and public enterprises and boards including being a former Secretary of Australia's Treasury and serving as the inaugural Secretary of the Department of Climate Change.
&nbsp\; &nbsp\; &nbsp\; &nbsp\; &nbsp\; &nbsp\; &nbsp\; &nbsp\; &nbsp\; &nbsp\; &nbsp\; &nbsp\; &nbsp\; &nbsp\; &nbsp\; &nbsp\; &nbsp\; &nbsp\; &nbsp\; &nbsp\; &nbsp\; &nbsp\; &nbsp\; &nbsp\; &nbsp\;



Hot finger foods\, wine\, beer\, and non-alcoholic drinks will be served
Event Details:
Date: Friday 8 March 2019Time: 5.30pm - 7:30pm Location: ANU&nbsp\;-&nbsp\;Research School of Economics\,&nbsp\;Fred Gruen Seminar Room\,&nbsp\;Level 1\, HW Arndt Building (Bldg 25A)\, Kingsley Street\, Acton&nbsp\; &nbsp\;Cost: FreeRegister: by 6 March 2019
&nbsp\;&nbsp\;
URL;VALUE=URI:http://esaact.org.au/event/37952
SUMMARY:ESA (ACT) FIRST FRIDAY ECONOMICS
DTSTART:20190308T173000
END:VEVENT
END:VCALENDAR

