

BEGIN:VCALENDAR
VERSION:2.0
PRODID:-//hacksw/handcal//NONSGML v1.0//EN
CALSCALE:GREGORIAN
BEGIN:VEVENT
DTEND:20190321T200000
UID:5e5c9df6c4548
DTSTAMP:20200302T164734
LOCATION:The Castle Room\, King O’Malley’s 131 City Walk Acton 2601 ACT
DESCRIPTION:ESA&nbsp\;(ACT) Young Economists Welcome Drinks&nbsp\;
&ldquo\;Economics are the method\; the object is to change the soul.&rdquo\;&nbsp\;&ndash\; Margaret Thatcher
ESA Young Economists invites you to join us for casual drinks at King O&rsquo\;Malley&rsquo\;s and connect with other young economists.
Free drink and light snacks&nbsp\; provided
Event Details:
Date: Thursday 21 March 2019Time: 6.30pm&nbsp\;Location:&nbsp\;The Castle Room\, King O&rsquo\;Malley&rsquo\;s\, 131 City Walk\, Canberra.Cost: Members: Free&nbsp\; Non Members: $20Register: ASAP
This event is aimed at increasing the network of young economists across Canberra by providing a relaxed atmosphere to discuss economic issues.
&nbsp\;&nbsp\;
URL;VALUE=URI:http://esaact.org.au/event/38198
SUMMARY:ESA (ACT) Young Economists Welcome Drinks
DTSTART:20190321T183000
END:VEVENT
END:VCALENDAR

