

BEGIN:VCALENDAR
VERSION:2.0
PRODID:-//hacksw/handcal//NONSGML v1.0//EN
CALSCALE:GREGORIAN
BEGIN:VEVENT
DTEND:20190501T200000
UID:5e5c9db04e0f2
DTSTAMP:20200302T164624
LOCATION:ANU - Research School of Economics\, Fred Gruen Seminar Room Level 1\, HW Arndt Building (Bldg 25A)\, Kingsley Street Acton 2601 ACT
DESCRIPTION:WEN&nbsp\;Mentoring Program &lsquo\;Speed Networking&rsquo\; eventPlease join us for the second networking event of the ACT Women in Economics Mentoring Program.&nbsp\;
Event Details:
Date: Wednesday 1 May 2019&nbsp\;Time: 6:00pm- 8:00pm Location:&nbsp\;Research School of Economics\, HW Arndt Building 25a\, Kingsley Pl\,&nbsp\;&nbsp\;Australian National UniversityCost: INVITATION ONLY!&nbsp\; Please use the PROMO CODE you received in your invitation to register at no charge.
Drinks and nibbles will be provided.
WEN&nbsp\;has been formed to promote and support the career development of women in the economics profession in Australia.
Please note that this is an INVITATION ONLY event.&nbsp\; Registration is required and numbers are limited.&nbsp\;
&nbsp\;
URL;VALUE=URI:http://esaact.org.au/event/38446
SUMMARY:WEN Mentoring Program ‘Speed Networking’ event
DTSTART:20190501T180000
END:VEVENT
END:VCALENDAR

