

BEGIN:VCALENDAR
VERSION:2.0
PRODID:-//hacksw/handcal//NONSGML v1.0//EN
CALSCALE:GREGORIAN
BEGIN:VEVENT
DTEND:20190607T193000
UID:5e5c9d8159c57
DTSTAMP:20200302T164537
LOCATION:ANU\, Research School of Economics Seminar Room\, Level 1\, HW Arndt Building (Bldg 25A)\, Kingsley St Acton 2601 ACT
DESCRIPTION:ESA&nbsp\;(ACT) First Friday Economics&nbsp\;June 2019Chris Richardson
&nbsp\;
The Economic Society of Australia (ACT) and the Research School of Economics at the ANU wish to invite you to the June edition of First Friday Economics (FFE). FFE is an exciting initiative aimed at enriching the professional and social lives of Canberra economists. We aim to provide a congenial setting\, on the first Friday of every month\, to allow the interaction of mainly young Canberra economists\, with a major Canberra economist invited to give a short address.&nbsp\;
For the June event\, we are pleased to have Chris Richardson\, the head of Deloitte Access Economics&rsquo\; forecasting and policy unit. Chris is possibly one of Australia&rsquo\;s best known economists&nbsp\;and will talk about &lsquo\;How economists can make a better society&rsquo\;. A highly sought after commentator and presenter on economic trends in both broadcast and print media\, he is also the author of Business Outlook\, a leader in its field of macro forecasting\, as well as the highly influential Budget Monitor\, an in-depth analysis of the Australian Federal Budget.
Finger food and drinks will be served
Event Details:
Date: Friday 7 June 2019Time: 5.30pm - 7:30pm Location: ANU&nbsp\;-&nbsp\;Research School of Economics\,&nbsp\;Fred Gruen Seminar Room\,&nbsp\;Level 1\, HW Arndt Building (Bldg 25A)\, Kingsley Street\, Acton&nbsp\; &nbsp\;Cost: FreeRegister: ASAP!
&nbsp\;&nbsp\;
URL;VALUE=URI:http://esaact.org.au/event/38747
SUMMARY:ESA (ACT) FIRST FRIDAY ECONOMICS - June
DTSTART:20190607T173000
END:VEVENT
END:VCALENDAR

