

BEGIN:VCALENDAR
VERSION:2.0
PRODID:-//hacksw/handcal//NONSGML v1.0//EN
CALSCALE:GREGORIAN
BEGIN:VEVENT
DTEND:20190705T193000
UID:5e5c9bb86aa97
DTSTAMP:20200302T163800
LOCATION:ANU\, Research School of Economics Seminar Room\, Level 1\, HW Arndt Building (Bldg 25A)\, Kingsley St Acton 2601 ACT
DESCRIPTION:ESA&nbsp\;(ACT) First Friday Economics&nbsp\;July 2019&nbsp\;Meghan Quinn PSMClose encounters of the economic kind&nbsp\;
The Economic Society of Australia (ACT) and the Research School of Economics at the ANU wish to invite you to the July edition of First Friday Economics (FFE). FFE is an exciting initiative aimed at enriching the professional and social lives of Canberra economists. We aim to provide a congenial setting\, on the first Friday of every month\, to allow the interaction of mainly young Canberra economists\, with a major Canberra economist invited to give a short address.&nbsp\;
For the July event\, we are pleased to have Meghan Quinn PSM\, Deputy Secretary of Macroeconomic Group at the Australian Treasury. Meghan will discuss the role of economic in public policy making from a Treasury perspective.
Meghan is part of the Women in Economics Network mentoring program. She is an experienced public sector economist who has worked extensively across a wide range of economic modelling issues both within Australia and the United Kingdom.
Finger food and drinks will be served
Event Details:
Date: Friday 5 July 2019Time: 5.30pm - 7:30pm Location: ANU&nbsp\;-&nbsp\;Research School of Economics\,&nbsp\;Fred Gruen Seminar Room\,&nbsp\;Level 1\, HW Arndt Building (Bldg 25A)\, Kingsley Street\, Acton&nbsp\; &nbsp\;Cost: FreeRegister: ASAP!&nbsp\;
Please RSVP&nbsp\;to ESA (ACT)&nbsp\;by 3rd July 2019 for catering.
&nbsp\;&nbsp\;
URL;VALUE=URI:http://esaact.org.au/event/39394
SUMMARY:ESA (ACT) FIRST FRIDAY ECONOMICS - July
DTSTART:20190705T173000
END:VEVENT
END:VCALENDAR

