

BEGIN:VCALENDAR
VERSION:2.0
PRODID:-//hacksw/handcal//NONSGML v1.0//EN
CALSCALE:GREGORIAN
BEGIN:VEVENT
DTEND:20190822T200000
UID:5e5c9b7393ef6
DTSTAMP:20200302T163651
LOCATION:The Commonwealth Club 25 Forster Cresent Yarralumla 2600 ACT
DESCRIPTION:ESA&nbsp\;(ACT):&nbsp\;Cost of Defence &ndash\; How to spend over $100 million per day&nbsp\;&nbsp\;
The Economic Society of Australia (ESA) ACT invites you to a presentation from Dr Marcus Hellyer. 
This event is a Professional Members only event.Marcus is a Senior Analyst for the Australian Strategic Policy Institute (ASPI) focusing on Defence economics and military capability. ASPI is an independent\, non-partisan think tank that produces expert and timely advice for Australia&rsquo\;s strategic and defence leaders.Previously he was a senior public servant in the Department of Defence\, responsible for ensuring that the government was provided with the best possible advice and recommendations on major capital investments such as the Joint Strike Fighter\, Future Frigate and Future Submarine. He also developed and administered Defence&rsquo\;s capital investment program. Marcus has also worked in Australia&rsquo\;s intelligence community as a terrorism analyst. Before joining the public service\, Marcus had a career as an academic historian in the United States.
Event Details:
Date: Thursday 22 August\, 2019Time: 6:00pm- 8:00pm Location: Commonwealth Club\, 25 Forster Crescent Yarralumla\, Canberra Cost: Free Professional Members Only event
* A light meal&nbsp\;and drinks will be served&nbsp\;
&nbsp\;
&nbsp\;
&nbsp\;
&nbsp\;
URL;VALUE=URI:http://esaact.org.au/event/39514
SUMMARY:ESA (ACT): Cost of Defence – How to spend over $100 million per day
DTSTART:20190822T180000
END:VEVENT
END:VCALENDAR

