

BEGIN:VCALENDAR
VERSION:2.0
PRODID:-//hacksw/handcal//NONSGML v1.0//EN
CALSCALE:GREGORIAN
BEGIN:VEVENT
DTEND:20190813T200000
UID:5e5c9b7a14a34
DTSTAMP:20200302T163658
LOCATION:University House\, Australian National University 1 Balmain Cres Acton 2601 ACT
DESCRIPTION:WEN Mentoring Program Final Networking Event
&lsquo\;Perspectives on inequality&rsquo\;
Please join us for the final networking event of the ACT Women in Economics Mentoring Program.&nbsp\;
Event Details:
Date: Tuesday 13 August 2019&nbsp\;Time: 6:00pm- 8:00pm Location: University House\, Australian National University\, 1 Balmain&nbsp\;Cres&nbsp\;ActonCost: INVITATION ONLY!&nbsp\; Please use the PROMO CODE you received in your invitation to register at no charge.
Drinks and nibbles will be provided.
WEN&nbsp\;has been formed to promote and support the career development of women in the economics profession in Australia.
Please note that this is an INVITATION ONLY event.&nbsp\; Registration is required and numbers are limited.&nbsp\;
&nbsp\;
URL;VALUE=URI:http://esaact.org.au/event/39862
SUMMARY:WEN Mentoring Program: Final Networking Event
DTSTART:20190813T180000
END:VEVENT
END:VCALENDAR

