

BEGIN:VCALENDAR
VERSION:2.0
PRODID:-//hacksw/handcal//NONSGML v1.0//EN
CALSCALE:GREGORIAN
BEGIN:VEVENT
DTEND:20190906T193000
UID:5e5c9b556cf08
DTSTAMP:20200302T163621
LOCATION:ANU\, Research School of Economics Seminar Room\, Level 1\, HW Arndt Building (Bldg 25A)\, Kingsley St Acton 2601 ACT
DESCRIPTION:ESA&nbsp\;(ACT) First Friday Economics&nbsp\;September 2019 - NOTE: EARLY STARTAndrew Leigh MP
The Economic Society of Australia (ACT) and the Research School of Economics at the ANU wish to invite you to the September edition of First Friday Economics (FFE). FFE is an exciting initiative aimed at enriching the professional and social lives of Canberra economists. We aim to provide a congenial setting\, on the first Friday of every month\, to allow the interaction of mainly young Canberra economists\, with a major Canberra economist invited to give a short address.&nbsp\;
For the September event\, we are pleased to have Andrew Leigh presenting his new research on prisons: explaining the return to mass imprisonment in Australia.
Dr Leigh is an Australian politician\, author\, and former professor of economics at the ANU. He has been a member of the Parliament of Australia for the ACT since 2010. Over his academic career\, Leigh published over 50 journal articles in the disciplines of economics\, public policy and law and over 100 opinion pieces.&nbsp\;
Finger food and drinks will be served
Event Details:
Date: Friday 6 September 2019Time: 5.00pm - 7:30pm - NOTE EARLIER START TIMELocation: ANU&nbsp\;-&nbsp\;Research School of Economics\,&nbsp\;Fred Gruen Seminar Room\,&nbsp\;Level 1\, HW Arndt Building (Bldg 25A)\, Kingsley Street\, Acton&nbsp\; &nbsp\;Cost: FreeRegister: ASAP!&nbsp\;
Please register&nbsp\;by 4 Sept 2019 for catering.
&nbsp\;&nbsp\;
URL;VALUE=URI:http://esaact.org.au/event/40023
SUMMARY:ESA (ACT) FIRST FRIDAY ECONOMICS - September
DTSTART:20190906T170000
END:VEVENT
END:VCALENDAR

