

BEGIN:VCALENDAR
VERSION:2.0
PRODID:-//hacksw/handcal//NONSGML v1.0//EN
CALSCALE:GREGORIAN
BEGIN:VEVENT
DTEND:20191107T183000
UID:5e5c9b0439ed0
DTSTAMP:20200302T163500
LOCATION:ActewAGL foyer Cnr Bunda St and Mort St Civic 2600 ACT
DESCRIPTION:Women in Economics Network Annual General Meeting&nbsp\;
The Women in Economics Network is pleased to invite you to our Annual General Meeting.&nbsp\;
Nominations&nbsp\;for WEN Committee positions are due by Thursday 31 October.&nbsp\;Current ESA WEN Members are eligible to nominate and vote at the WEN AGM.
Please email Cherelle&nbsp\;Murphy&nbsp\;at&nbsp\;Cherelle.Murphy@anz.com to nominate.&nbsp\;
Event Details:
Date: Thursday 7 November 2019&nbsp\;Time: 5:30pm- 6:30pm&nbsp\;Location: ActewAGL&nbsp\;Foyer\, Crn&nbsp\;Bunda&nbsp\;St&nbsp\;and Mort St Civic&nbsp\;&nbsp\;Cost: Members only event: No charge&nbsp\;&nbsp\;
* Drinks and Canapes will be provided
&nbsp\;
Please also join us for drinks and nibbles and the ACT Economic Society AGM\, which will be held immediately afterwards.
WEN&nbsp\;has been formed to promote and support the career development of women in the economics profession in Australia.
&nbsp\;
URL;VALUE=URI:http://esaact.org.au/event/40061
SUMMARY:WEN Annual General Meeting 2019
DTSTART:20191107T173000
END:VEVENT
END:VCALENDAR

