

BEGIN:VCALENDAR
VERSION:2.0
PRODID:-//hacksw/handcal//NONSGML v1.0//EN
CALSCALE:GREGORIAN
BEGIN:VEVENT
DTEND:20191107T200000
UID:5e5c9b00089c2
DTSTAMP:20200302T163456
LOCATION:ActewAGL foyer  Cnr Bunda St and Mort St Civic 2602 ACT
DESCRIPTION:ESA (ACT) Annual General Meeting
The ESA (ACT) is pleased to invite you to our Annual General Meeting.
Please&nbsp\;contact Guy Jakeman&nbsp\;or Cherelle&nbsp\;Murphy&nbsp\;if interested in joining the committee.
As per our constitution\, a quorum for the AGM consists of 20 members of the ESA ACT and we encourage all members to attend.
Event Details:
Date: Thursday 07 November 2019&nbsp\;Time: 6:30pm- 8:00pm Location: ActewAGL Foyer\, Crn&nbsp\;Bunda&nbsp\;St and Mort St\, Civic&nbsp\; &nbsp\;&nbsp\;Cost: Members Only event: No charge&nbsp\;&nbsp\;
* Drinks and Canapes will be provided&nbsp\;
&nbsp\;
URL;VALUE=URI:http://esaact.org.au/event/40062
SUMMARY:ESA (ACT) Annual General Meeting 
DTSTART:20191107T183000
END:VEVENT
END:VCALENDAR

