

BEGIN:VCALENDAR
VERSION:2.0
PRODID:-//hacksw/handcal//NONSGML v1.0//EN
CALSCALE:GREGORIAN
BEGIN:VEVENT
DTEND:20190905T140000
UID:5e5c9b612a4c0
DTSTAMP:20200302T163633
LOCATION:Department of Foreign Affairs and Trade 255 London Circuit Canberra City 2601 ACT
DESCRIPTION:Women in Economics Event: Illicit Financial Flows: Myths and Measurements&nbsp\;Illicit financial flows detract from funds available for developing countries to invest in public services and productive enterprises. However\, the scale of the problem is difficult to pin-down and in some cases is likely to be exaggerated\, this detracts from evidence based discussions of solutions. This presentation will delve into the myths surrounding illicit financial flows and seek to clarify emerging evidence on measurement.
Event Details:
Date:&nbsp\;Thursday 5 September 2019 Time: 1:00pm to 2:00pm&nbsp\;Location:&nbsp\;Department of Foreign Affairs and Trade (Training Room 1) - 255 London Circuit Canberra City&nbsp\;Cost: Whilst the event is free of charge\, spaces are limited. You&nbsp\;must RSVP&nbsp\;to attend.
RSVPs are essential&nbsp\;&ndash\; please email&nbsp\;economists@DFAT.gov.au
Speaker:



&nbsp\; &nbsp\; &nbsp\; &nbsp\; &nbsp\; &nbsp\; &nbsp\;&nbsp\; &nbsp\; &nbsp\; &nbsp\; &nbsp\; &nbsp\; &nbsp\;
Vijaya Ramachandran&nbsp\;is a Senior Fellow at the Washington based Centre for Global Development. The CGD works to reduce global poverty and improve lives through innovative economic research that drives better policy and practice by the world&rsquo\;s top decision makers. Vijaya&rsquo\;s research topics include private sector development\, illicit flows\, anti-money laundering policy\, and development finance.&nbsp\;Prior to joining CGD\, Vijaya worked at the World Bank and in the Executive Office of the Secretary General of the United Nations.&nbsp\;She holds a PhD in Business Economics from Harvard University.



&nbsp\;
WEN&nbsp\;has been formed to promote and support the career development of women in the economics profession in Australia.&nbsp\;All employees\, regardless of gender\, are able to attend Women in Economics events\, and you do not need to be a member of the Economic Society of Australia to attend.
&nbsp\;
&nbsp\;
URL;VALUE=URI:http://esaact.org.au/event/40116
SUMMARY:Women in Economics Event: Illicit Financial Flows: Myths and Measurements
DTSTART:20190905T130000
END:VEVENT
END:VCALENDAR

