

BEGIN:VCALENDAR
VERSION:2.0
PRODID:-//hacksw/handcal//NONSGML v1.0//EN
CALSCALE:GREGORIAN
BEGIN:VEVENT
DTEND:20191004T193000
UID:5e5c9b42aee3a
DTSTAMP:20200302T163602
LOCATION:ANU\, Research School of Economics Seminar Room\, Level 1\, HW Arndt Building (Bldg 25A)\, Kingsley St Acton 2601 ACT
DESCRIPTION:ESA&nbsp\;(ACT) First Friday Economics&nbsp\;October 2019&nbsp\;Professor James Riedel Emeritus&nbsp\;Professor of International Economics at the Johns Hopkins University School of Advanced International Studies&nbsp\;What&rsquo\;s Behind US and Global Trade Imbalances?
The Economic Society of Australia (ACT) and the Research School of Economics at the ANU wish to invite you to the October edition of First Friday Economics (FFE). FFE is an exciting initiative aimed at enriching the professional and social lives of Canberra economists. We aim to provide a congenial setting\, on the first Friday of every month\, to allow the interaction of mainly young Canberra economists\, with a major Canberra economist invited to give a short address.
For the October event\, we are pleased to have James Riedel speaking on&nbsp\;What&rsquo\;s Behind US and Global Trade Imbalances?
Three separate but integrally related questions are addressed in turn:

What&rsquo\;s behind the U.S. trade and current account deficits that President Trump routinely cites to justify a trade war with China and other countries? The answer is found in publicly&nbsp\;available data of which Mr. Trump is apparently unaware or chooses to ignore.&nbsp\;
Why in recent decades have real resources and the capital that finances them flowed disproportionately uphill from relatively poor to relative rich countries in defiance of what theory predicts? Is the theory of international capital flows wrong?&nbsp\; Or\, is it a matter of public policy in developing countries?
China figures disproportionately in the uphill flow of capital\, especially in the decade of the 2000s. Why did China take measures to transfer some USD 4 trillion of domestic saving to public and private borrowers in the United States in the 2000s? Who gained and who lost from those measures in China and the U.S.?

Finger food and drinks will be served
Event Details:
Date: Friday 4 October 2019Time: 5.30pm - 7:30pm&nbsp\;Location: ANU&nbsp\;-&nbsp\;Research School of Economics\,&nbsp\;Fred Gruen Seminar Room\,&nbsp\;Level 1\, HW Arndt Building (Bldg 25A)\, Kingsley Street\, Acton&nbsp\; &nbsp\;Cost: FreeRegister: ASAP!&nbsp\;
Please register&nbsp\;by 2 October 2019 for catering.
James Riedel is Professor Emeritus of International Economics at the Johns Hopkins University School of Advanced International Studies. He joined the Hopkins faculty in 1976 and retired as the William L. Clayton Chair Professor of International Economics in 2017.&nbsp\; He has also held teaching positions at Hong Kong University\, Nanjing University\, and Fulbright University Vietnam.&nbsp\; He was a visiting scholar at the Institute of World Economics (Kiel)\, Nuffield College Oxford\, and the Australian National University-NDSC.&nbsp\; He was Senior Economic Advisor to the USAID-funded project assisting the government of Vietnam in implementing the VN-US BTA and Vietnam&rsquo\;s accession to the WTO (2002 to 2013). He was a member of the Board of Directors of the Vietnam Debt Fund (Dragon Capital Group) from 2008-2018. He has been a consultant to the World Bank\, the Asian Development Bank\, the Inter-American Development Bank\, the China Development Bank\, the OECD and other international organizations and corporations. He is a Trustee of the American Committee for Asian Economic Studies and on the advisory board of the Hong Kong Centre for Economic Research. He serves on the editorial boards of a number of international peer-reviewed academic journals in the field of economics. He has published widely in the areas of international trade theory and policy\, international finance and economic development.&nbsp\; His most recent book is How China Grows: Investment\, Finance\, and Reform (Princeton University Press\, 2007).&nbsp\;&nbsp\;
URL;VALUE=URI:http://esaact.org.au/event/40418
SUMMARY:ESA (ACT) FIRST FRIDAY ECONOMICS - October
DTSTART:20191004T173000
END:VEVENT
END:VCALENDAR

