

BEGIN:VCALENDAR
VERSION:2.0
PRODID:-//hacksw/handcal//NONSGML v1.0//EN
CALSCALE:GREGORIAN
BEGIN:VEVENT
DTEND:20191015T083000
UID:5e5c9b2a7a2e5
DTSTAMP:20200302T163538
LOCATION:Shaw and Partners Level 7\, 54 Marcus Clarke St Canberra 2600 ACT
DESCRIPTION:ESA&nbsp\;(ACT) Members Only event&nbsp\;Equity Market Outlook&nbsp\;Martin Crabb\,&nbsp\;Chief Investment Officer\, Shaw and Partners
The Economic Society of Australia (ACT) invites you to a Members Only breakfast event hosted by Shaw and Partners.
Martin Crabb\,&nbsp\;CIO&nbsp\;of Shaw and Partners will&nbsp\;speak about the equity market outlook.
Martin joined Shaw and Partners in April 2011.&nbsp\; He has30+ years experience across financial markets\, including 21 years as an Executive Director at Macquarie Group in roles spanning Institutional Stockbroking\, Wealth Management\, Research and Portfolio Management. Martin holds a Bachelor of Arts in Economics and Mathematics from the University of Melbourne\, with postgraduate studies in Applied Finance.
A light breakfast will be served.
Event Details:
Date: Tuesday 15 October 2019Time: 7.15am - 8.30am&nbsp\;Location: Shaw and Partners - Level 7\, 54 Marcus Clarke St\, Canberra ACT 2600 &nbsp\;&nbsp\;Cost: Free Members Only event - very limited seating!
Please register&nbsp\;by 10 October 2019 for catering. Contact Narelle&nbsp\;at admin@esaact.org.au&nbsp\;if you have any questions.&nbsp\;&nbsp\;
Thank you to our generous event partner:

URL;VALUE=URI:http://esaact.org.au/event/40479
SUMMARY:ESA (ACT) Members Only event: Equity Market Outlook
DTSTART:20191015T071500
END:VEVENT
END:VCALENDAR

