

BEGIN:VCALENDAR
VERSION:2.0
PRODID:-//hacksw/handcal//NONSGML v1.0//EN
CALSCALE:GREGORIAN
BEGIN:VEVENT
DTEND:20191030T213000
UID:5e5c9b1a36ba8
DTSTAMP:20200302T163522
LOCATION:The Commonwealth Club 25 Forster Cresent Yarralumla 2600 ACT
DESCRIPTION:ESA&nbsp\;(ACT) Annual Dinner&nbsp\;&nbsp\;
The Economic Society of Australia&nbsp\;(ACT) would like to invite you to our Annual Dinner featuring a talk from Stephen Koukoulas\, Managing Director at Market Economics on 'The Australian economy - what policy makers are getting wrong'.
With GDP growth sliding to near two decade lows\, unemployment rising\, wages growth tracking a near record lows and inflation entrenched well below the RBA target\, something has gone wrong. How much is due to policy failure?&nbsp\; How much is due to factors outside their control?&nbsp\;
Stephen Koukoulas is one of Australia's leading economic visionaries\, past Chief Economist of Citibank\, heading global research in London for TD and Senior Economic Advisor to the Prime Minister.&nbsp\;
Please join us to hear from Stephen and enjoy dinner with the ESA (ACT) Board and Members&nbsp\;at the beautiful Commonwealth Club.
Event Details:
Date: Wednesday 30 October 2019Time: 6.30pm - 9:30pm Location: The Commonwealth Club\, 25 Forster Cres\,&nbsp\;YarralumlaCost: $60.00 members | $100.00 non-members | $600 table
Canapes\, a two-course meal and drinks are included.&nbsp\;
Please note that registration is required and numbers are limited.
URL;VALUE=URI:http://esaact.org.au/event/40507
SUMMARY:ESA (ACT) Annual Dinner 
DTSTART:20191030T183000
END:VEVENT
END:VCALENDAR

