

BEGIN:VCALENDAR
VERSION:2.0
PRODID:-//hacksw/handcal//NONSGML v1.0//EN
CALSCALE:GREGORIAN
BEGIN:VEVENT
DTEND:20191101T193000
UID:5e5c9b0fdcac8
DTSTAMP:20200302T163511
LOCATION:ANU\, Research School of Economics Seminar Room\, Level 1\, HW Arndt Building (Bldg 25A)\, Kingsley St Acton 2601 ACT
DESCRIPTION:ESA&nbsp\;(ACT) First Friday EconomicsSpeaker: River Paul&nbsp\;November 2019&nbsp\;
The Economic Society of Australia (ACT) and the Research School of Economics at the ANU wish to invite you to the November edition of First Friday Economics (FFE). FFE is an exciting initiative aimed at enriching the professional and social lives of Canberra economists. We aim to provide a congenial setting\, on the first Friday of every month\, to allow the interaction of mainly young Canberra economists\, with a major Canberra economist invited to give a short address.
For the November event\, we are pleased to have River Paul from AFSA. River is the 2019 Telstra ACT Business Woman of the Year. One of her significant achievements was establishing the statistics and economic analysis function in AFSA\, which involved rapid expansion of published statistics so information is open and easily accessible to the community. The solutions Ms Paul has implemented have seen AFSA&rsquo\;s processes become globally regarded as best practice. River also took home the ACT Public Sector and Academia Award\, which recognises women who have dedicated themselves to making an impact in education or the public service.
As a passionate advocate for opening government doors to the public\, River works to empower decision makers\, both in households and businesses.
Finger food and drinks will be served
Event Details:
Date: Friday 1 November 2019Time: 5.30pm - 7:30pm&nbsp\;Location: ANU&nbsp\;-&nbsp\;Research School of Economics\,&nbsp\;Fred Gruen Seminar Room\,&nbsp\;Level 1\, HW Arndt Building (Bldg 25A)\, Kingsley Street\, Acton&nbsp\; &nbsp\;Cost: FreeRegister: ASAP!&nbsp\;
Please register&nbsp\;by 30 October 2019 for catering.&nbsp\;
URL;VALUE=URI:http://esaact.org.au/event/40805
SUMMARY:ESA (ACT) FIRST FRIDAY ECONOMICS - November
DTSTART:20191101T173000
END:VEVENT
END:VCALENDAR

