

BEGIN:VCALENDAR
VERSION:2.0
PRODID:-//hacksw/handcal//NONSGML v1.0//EN
CALSCALE:GREGORIAN
BEGIN:VEVENT
DTEND:20191207T160000
UID:5e5c9ae91cab4
DTSTAMP:20200302T163433
LOCATION:The National Library of Australia Parkes Place Parkes 2600 ACT
DESCRIPTION:Women in Economics Network &ldquo\;WEN and WINE&rdquo\; &nbsp\;
The Women in Economics Network ACT invites you to join our end of year event.
Principal Research Fellow with Bankwest Curtin Economics\,&nbsp\;Rebecca Cassells will be talking to us about the gender gap we should all be concerned about &ndash\; the gender wine gap.
Event Details:
Date: Saturday 7 December\, 2019Time: 11:00am- 4:00pm Location: Coach pick-up&nbsp\;National Library&nbsp\;(Parkes Place\, Parkes ) 11am\, returning 4-5pm.&nbsp\;Cost: $100 members | $155 non-members
*&nbsp\;Bookplate cafe&nbsp\;at the National Library has great coffee\, so get there a little early for your takeaway in your WEN Joco Cup!
The event includes coach transport\, wine tasting at&nbsp\;Contentious Character Wines&nbsp\;and a two course set lunch at&nbsp\;Lark Hill Winery&nbsp\;(with a glass of sparkling on arrival and a glass of either red or white wine with lunch).
The Women in Economics Network was formed in 2017 to promote and support the careers of female economists in Australia. The objectives for the Women in Economics Network are to increase the representation of women at all levels of the profession\, promote public contributions by female economists and encourage young women to study economics.&nbsp\;Both women and men are welcome to attend the event.
Please note that registration is required and numbers are limited. &nbsp\;RSVP by Friday 29 November.
URL;VALUE=URI:http://esaact.org.au/event/40963
SUMMARY:WEN and Wine
DTSTART:20191207T110000
END:VEVENT
END:VCALENDAR

